BEGIN:VCALENDAR
VERSION:2.0
PRODID:-//wp-events-plugin.com//7.2.3.1//EN
TZID:Europe/London
X-WR-TIMEZONE:Europe/London
BEGIN:VEVENT
UID:6345@ottervalechurches.org
DTSTART;TZID=Europe/London:20260510T091500
DTEND;TZID=Europe/London:20260510T100000
DTSTAMP:20251230T121930Z
URL:https://ottervalechurches.org/events/all-ages-2026-01-11-2026-02-08-20
 26-03-08-2026-04-12-2026-05-10/
SUMMARY:All Ages
DESCRIPTION:An informal service of music and readings suitable for all.
ATTACH;FMTTYPE=image/jpeg:https://ottervalechurches.org/wp-content/uploads
 /family-service.jpg
CATEGORIES:Payhembury
LOCATION:Payhembury Church\, Church Lane\, Payhembury\, England\, EX14 3HR\
 , Devon\, United Kingdom
GEO:50.808485;-3.29476
X-APPLE-STRUCTURED-LOCATION;VALUE=URI;X-ADDRESS=Church Lane\, Payhembury\, 
 England\, EX14 3HR\, Devon\, United Kingdom;X-APPLE-RADIUS=100;X-TITLE=Pay
 hembury Church:geo:50.808485,-3.29476
END:VEVENT
BEGIN:VTIMEZONE
TZID:Europe/London
X-LIC-LOCATION:Europe/London
BEGIN:DAYLIGHT
DTSTART:20260329T020000
TZOFFSETFROM:+0000
TZOFFSETTO:+0100
TZNAME:BST
END:DAYLIGHT
END:VTIMEZONE
END:VCALENDAR