BEGIN:VCALENDAR
VERSION:2.0
PRODID:-//wp-events-plugin.com//7.2.3.1//EN
TZID:Europe/London
X-WR-TIMEZONE:Europe/London
BEGIN:VEVENT
UID:6723@ottervalechurches.org
DTSTART;TZID=Europe/London:20260428T140000
DTEND;TZID=Europe/London:20260428T150000
DTSTAMP:20260321T170800Z
URL:https://ottervalechurches.org/events/bible-study-acts-2026-03-24-2026-
 03-31-2026-04-07-2026-04-14-2026-04-21-2026-04-28/
SUMMARY:Bible Study - Acts
DESCRIPTION:Join in a friendly Bible study on the Acts of the Apostles. No 
 prior knowledge needed. Doesn't matter if you miss a week.
ATTACH;FMTTYPE=image/jpeg:https://ottervalechurches.org/wp-content/uploads
 /person-reading-a-bible.jpg
CATEGORIES:Ottery St Mary
LOCATION:Ottery St Mary Church\, Paternoster Row\, Ottery St. Mary\, Devon\
 , EX11 1DP\, United Kingdom
GEO:50.752824;-3.279228
X-APPLE-STRUCTURED-LOCATION;VALUE=URI;X-ADDRESS=Paternoster Row\, Ottery St
 . Mary\, Devon\, EX11 1DP\, United Kingdom;X-APPLE-RADIUS=100;X-TITLE=Otte
 ry St Mary Church:geo:50.752824,-3.279228
END:VEVENT
BEGIN:VTIMEZONE
TZID:Europe/London
X-LIC-LOCATION:Europe/London
BEGIN:DAYLIGHT
DTSTART:20260329T020000
TZOFFSETFROM:+0000
TZOFFSETTO:+0100
TZNAME:BST
END:DAYLIGHT
END:VTIMEZONE
END:VCALENDAR