BEGIN:VCALENDAR
VERSION:2.0
PRODID:-//wp-events-plugin.com//7.2.3.1//EN
TZID:Europe/London
X-WR-TIMEZONE:Europe/London
BEGIN:VEVENT
UID:5940@ottervalechurches.org
DTSTART;TZID=Europe/London:20260510T100000
DTEND;TZID=Europe/London:20260510T110000
DTSTAMP:20251230T114813Z
URL:https://ottervalechurches.org/events/cafe-church-2-2026-01-11-2026-02-
 08-2026-03-08-2026-04-12-2026-05-10/
SUMMARY:Cafe Church
DESCRIPTION:An informal service of hymns\, bible readings and prayers in a 
 relaxed setting.
ATTACH;FMTTYPE=image/jpeg:https://ottervalechurches.org/wp-content/uploads
 /cafe-church.jpg
CATEGORIES:Newton Poppleford
LOCATION:Newton Poppleford Church Hall\, High Street\, Newton Poppleford\, 
 Devon\, EX10 0EG\, United Kingdom
X-APPLE-STRUCTURED-LOCATION;VALUE=URI;X-ADDRESS=High Street\, Newton Popple
 ford\, Devon\, EX10 0EG\, United Kingdom;X-APPLE-RADIUS=100;X-TITLE=Newton
  Poppleford Church Hall:geo:0,0
END:VEVENT
BEGIN:VTIMEZONE
TZID:Europe/London
X-LIC-LOCATION:Europe/London
BEGIN:DAYLIGHT
DTSTART:20260329T020000
TZOFFSETFROM:+0000
TZOFFSETTO:+0100
TZNAME:BST
END:DAYLIGHT
END:VTIMEZONE
END:VCALENDAR