BEGIN:VCALENDAR
VERSION:2.0
PRODID:-//wp-events-plugin.com//7.2.3.1//EN
TZID:Europe/London
X-WR-TIMEZONE:Europe/London
BEGIN:VEVENT
UID:6073@ottervalechurches.org
DTSTART;TZID=Europe/London:20260503T093000
DTEND;TZID=Europe/London:20260503T101500
DTSTAMP:20251230T115547Z
URL:https://ottervalechurches.org/events/cafe-church-2026-01-04-2026-02-01
 -2026-03-01-2026-04-05-2026-05-03/
SUMMARY:Cafe church
DESCRIPTION:This is an informal service aimed at all generations! Children 
 are very welcome. The service lasts about 40 minutes and is made up of sin
 ging\, listening to Bible readings and a talk\, and prayers. Refreshments 
 are served after the service.
ATTACH;FMTTYPE=image/jpeg:https://ottervalechurches.org/wp-content/uploads
 /cafe-church.jpg
CATEGORIES:West Hill
LOCATION:West Hill Church\, Bendarroch Road\, West Hill\, England\, EX11 1U
 W\, Devon\, United Kingdom
GEO:50.740109;-3.319171
X-APPLE-STRUCTURED-LOCATION;VALUE=URI;X-ADDRESS=Bendarroch Road\, West Hill
 \, England\, EX11 1UW\, Devon\, United Kingdom;X-APPLE-RADIUS=100;X-TITLE=
 West Hill Church:geo:50.740109,-3.319171
END:VEVENT
BEGIN:VTIMEZONE
TZID:Europe/London
X-LIC-LOCATION:Europe/London
BEGIN:DAYLIGHT
DTSTART:20260329T020000
TZOFFSETFROM:+0000
TZOFFSETTO:+0100
TZNAME:BST
END:DAYLIGHT
END:VTIMEZONE
END:VCALENDAR