BEGIN:VCALENDAR
VERSION:2.0
PRODID:-//wp-events-plugin.com//7.2.3.1//EN
TZID:Europe/London
X-WR-TIMEZONE:Europe/London
BEGIN:VEVENT
UID:6404@ottervalechurches.org
DTSTART;TZID=Europe/London:20260430T090000
DTEND;TZID=Europe/London:20260430T113000
DTSTAMP:20251230T122134Z
URL:https://ottervalechurches.org/events/cafe-connect-2026-01-08-2026-01-1
 5-2026-01-22-2026-01-29-2026-02-05-2026-02-12-2026-02-19-2026-02-26-2026-0
 3-05-2026-03-12-2026-03-19-2026-03-26-2026-04-02-2026-04-09-2026-04-16-202
 6-04-23-2026-04-30/
SUMMARY:Cafe Connect
DESCRIPTION:Drop in for coffee and cake\, and relax and chat in a cosy coff
 ee shop-style area.
ATTACH;FMTTYPE=image/jpeg:https://ottervalechurches.org/wp-content/uploads
 /cafe-connect.jpg
CATEGORIES:Payhembury
LOCATION:Payhembury Church\, Church Lane\, Payhembury\, England\, EX14 3HR\
 , Devon\, United Kingdom
GEO:50.808485;-3.29476
X-APPLE-STRUCTURED-LOCATION;VALUE=URI;X-ADDRESS=Church Lane\, Payhembury\, 
 England\, EX14 3HR\, Devon\, United Kingdom;X-APPLE-RADIUS=100;X-TITLE=Pay
 hembury Church:geo:50.808485,-3.29476
END:VEVENT
BEGIN:VTIMEZONE
TZID:Europe/London
X-LIC-LOCATION:Europe/London
BEGIN:DAYLIGHT
DTSTART:20260329T020000
TZOFFSETFROM:+0000
TZOFFSETTO:+0100
TZNAME:BST
END:DAYLIGHT
END:VTIMEZONE
END:VCALENDAR