BEGIN:VCALENDAR
VERSION:2.0
PRODID:-//wp-events-plugin.com//7.2.3.1//EN
TZID:Europe/London
X-WR-TIMEZONE:Europe/London
BEGIN:VEVENT
UID:6317@ottervalechurches.org
DTSTART;TZID=Europe/London:20260502T100000
DTEND;TZID=Europe/London:20260502T120000
DTSTAMP:20251230T120500Z
URL:https://ottervalechurches.org/events/coffee-morning-2026-02-07-2026-03
 -07-2026-04-04-2026-05-02/
SUMMARY:Coffee morning
DESCRIPTION:Coffee\, chat and opportunities to buy from the cake\, produce 
 and book stalls. We're always happy to receive donations of cakes and othe
 r home made food for sale.
ATTACH;FMTTYPE=image/jpeg:https://ottervalechurches.org/wp-content/uploads
 /coffee-morning-banner.jpg
CATEGORIES:Tipton St John
LOCATION:Tipton St John Village Hall\, Main Road\, Tipton St John\, Devon\,
  EX10 0AF\, United Kingdom
X-APPLE-STRUCTURED-LOCATION;VALUE=URI;X-ADDRESS=Main Road\, Tipton St John\
 , Devon\, EX10 0AF\, United Kingdom;X-APPLE-RADIUS=100;X-TITLE=Tipton St J
 ohn Village Hall:geo:0,0
END:VEVENT
BEGIN:VTIMEZONE
TZID:Europe/London
X-LIC-LOCATION:Europe/London
BEGIN:DAYLIGHT
DTSTART:20260329T020000
TZOFFSETFROM:+0000
TZOFFSETTO:+0100
TZNAME:BST
END:DAYLIGHT
END:VTIMEZONE
END:VCALENDAR