BEGIN:VCALENDAR
VERSION:2.0
PRODID:-//wp-events-plugin.com//7.2.3.1//EN
TZID:Europe/London
X-WR-TIMEZONE:Europe/London
BEGIN:VEVENT
UID:6737@ottervalechurches.org
DTSTART;TZID=Europe/London:20260427T170000
DTEND;TZID=Europe/London:20260427T173000
DTSTAMP:20260330T160204Z
URL:https://ottervalechurches.org/events/evening-prayer-2026-03-30-2026-03
 -31-2026-04-06-2026-04-07-2026-04-13-2026-04-14-2026-04-20-2026-04-21-2026
 -04-27/
SUMMARY:Online Evening Prayer
DESCRIPTION:A short service of Evening Prayer with a psalm\, Bible reading 
 and prayers often with a particular focus.
ATTACH;FMTTYPE=image/jpeg:https://ottervalechurches.org/wp-content/uploads
 /evening-prayer.jpg
CATEGORIES:Online
LOCATION:https://us06web.zoom.us/j/85148256640?pwd=sWoUHSVk9Hh1bkNjAO2XgNzf
 KlqG6a.1
END:VEVENT
BEGIN:VTIMEZONE
TZID:Europe/London
X-LIC-LOCATION:Europe/London
BEGIN:DAYLIGHT
DTSTART:20260329T020000
TZOFFSETFROM:+0000
TZOFFSETTO:+0100
TZNAME:BST
END:DAYLIGHT
END:VTIMEZONE
END:VCALENDAR