BEGIN:VCALENDAR
VERSION:2.0
PRODID:-//wp-events-plugin.com//7.2.3.1//EN
TZID:Europe/London
X-WR-TIMEZONE:Europe/London
BEGIN:VEVENT
UID:6451@ottervalechurches.org
DTSTART;TZID=Europe/London:20260503T180000
DTEND;TZID=Europe/London:20260503T190000
DTSTAMP:20251230T122408Z
URL:https://ottervalechurches.org/events/evensong-4-2026-04-05-2026-05-03/
SUMMARY:Evensong
DESCRIPTION:When you arrive at the church you will be welcomed and you will
  find a hymn book and a prayer book in the pew.\n\nWe start the service wi
 th a hymn and then say sorry to God for the things we have said and done t
 hat have hurt or wounded others or ourselves. We then say a psalm which is
  a poem/song from the OT that Jesus would have used in his worship. We the
 n listen to readings from the Old and New Testaments of the Bible interspe
 rsed with two more songs from the Bible called the Magnificat and the Nunc
  Dimittis. There is a sermon of about 10-15 minutes and then prayers for t
 he needs of the church\, the world\, our community\, and those who have as
 ked for personal prayer if they are poorly or bereaved. All this is inters
 persed with 3 more hymns and a retiring collection is taken for the work o
 f the church.\n\nThe whole service lasts about 45 minutes.
ATTACH;FMTTYPE=image/jpeg:https://ottervalechurches.org/wp-content/uploads
 /evensong.jpg
CATEGORIES:Escot
LOCATION:Escot Church\, Unnamed Road\, Escot\, England\, EX11 1LS\, Devon\,
  United Kingdom
GEO:50.769126;-3.295528
X-APPLE-STRUCTURED-LOCATION;VALUE=URI;X-ADDRESS=Unnamed Road\, Escot\, Engl
 and\, EX11 1LS\, Devon\, United Kingdom;X-APPLE-RADIUS=100;X-TITLE=Escot C
 hurch:geo:50.769126,-3.295528
END:VEVENT
BEGIN:VTIMEZONE
TZID:Europe/London
X-LIC-LOCATION:Europe/London
BEGIN:DAYLIGHT
DTSTART:20260329T020000
TZOFFSETFROM:+0000
TZOFFSETTO:+0100
TZNAME:BST
END:DAYLIGHT
END:VTIMEZONE
END:VCALENDAR