BEGIN:VCALENDAR
VERSION:2.0
PRODID:-//wp-events-plugin.com//7.2.3.1//EN
TZID:Europe/London
X-WR-TIMEZONE:Europe/London
BEGIN:VEVENT
UID:5680@ottervalechurches.org
DTSTART;TZID=Europe/London:20260514T140000
DTEND;TZID=Europe/London:20260514T150000
DTSTAMP:20251230T112915Z
URL:https://ottervalechurches.org/events/healing-service-2026-01-08-2026-0
 2-12-2026-03-12-2026-04-09-2026-05-14/
SUMMARY:Healing service
DESCRIPTION:A time of peace\, stillness\, and prayer and a place to slow do
 wn\, to invite God in\, and to lay burdens down. The short service of pray
 ers\, readings\, and reflective music is an opportunity to ask for healing
  for yourself\, for others and for the world. A time of fellowship follows
  the service.
ATTACH;FMTTYPE=image/jpeg:https://ottervalechurches.org/wp-content/uploads
 /healing-service.jpg
CATEGORIES:Ottery St Mary
LOCATION:Ottery St Mary Church\, Paternoster Row\, Ottery St. Mary\, Devon\
 , EX11 1DP\, United Kingdom
GEO:50.752824;-3.279228
X-APPLE-STRUCTURED-LOCATION;VALUE=URI;X-ADDRESS=Paternoster Row\, Ottery St
 . Mary\, Devon\, EX11 1DP\, United Kingdom;X-APPLE-RADIUS=100;X-TITLE=Otte
 ry St Mary Church:geo:50.752824,-3.279228
END:VEVENT
BEGIN:VTIMEZONE
TZID:Europe/London
X-LIC-LOCATION:Europe/London
BEGIN:DAYLIGHT
DTSTART:20260329T020000
TZOFFSETFROM:+0000
TZOFFSETTO:+0100
TZNAME:BST
END:DAYLIGHT
END:VTIMEZONE
END:VCALENDAR