BEGIN:VCALENDAR
VERSION:2.0
PRODID:-//wp-events-plugin.com//7.2.3.1//EN
TZID:Europe/London
X-WR-TIMEZONE:Europe/London
BEGIN:VEVENT
UID:5915@ottervalechurches.org
DTSTART;TZID=Europe/London:20260419T183000
DTEND;TZID=Europe/London:20260419T193000
DTSTAMP:20251230T114716Z
URL:https://ottervalechurches.org/events/holy-communion-bcp-2-2026-01-18-2
 026-02-15-2026-03-15-2026-04-19/
SUMMARY:Holy Communion BCP
DESCRIPTION:This is a traditional service using the 1662 Book of Common Pra
 yer. When you arrive at the church you will be welcomed and you will find 
 a prayer book and a hymn book in the pew.\n\nDuring the service we offer v
 arious forms of prayer: adoration\, confession and a special prayer for th
 e week\, as well as prayers for the needs of God’s world and his people.
  We sing traditional hymns throughout the service. We hear readings from t
 he Bible and sermon of 10 – 15 minutes will be preached. The Minister le
 ading the service offers prayers over bread and wine to celebrate the life
  and sacrifice of Jesus and to remind us of what he did for us. The bread 
 and wine is then shared out among everyone. Please come up to the rail at 
 the front of church\, and if you do not want to have the bread and wine pl
 ease come up for a blessing.\n\nThe whole service lasts about an hour.
ATTACH;FMTTYPE=image/jpeg:https://ottervalechurches.org/wp-content/uploads
 /holy-communion-bcp.jpg
CATEGORIES:Harpford
LOCATION:Harpford Church\, 1 Lower Way\, Harpford\, England\, EX10 0NQ\, De
 von\, United Kingdom
GEO:50.705439;-3.288895
X-APPLE-STRUCTURED-LOCATION;VALUE=URI;X-ADDRESS=1 Lower Way\, Harpford\, En
 gland\, EX10 0NQ\, Devon\, United Kingdom;X-APPLE-RADIUS=100;X-TITLE=Harpf
 ord Church:geo:50.705439,-3.288895
END:VEVENT
BEGIN:VTIMEZONE
TZID:Europe/London
X-LIC-LOCATION:Europe/London
BEGIN:DAYLIGHT
DTSTART:20260329T020000
TZOFFSETFROM:+0000
TZOFFSETTO:+0100
TZNAME:BST
END:DAYLIGHT
END:VTIMEZONE
END:VCALENDAR