BEGIN:VCALENDAR
VERSION:2.0
PRODID:-//wp-events-plugin.com//7.2.3.1//EN
TZID:Europe/London
X-WR-TIMEZONE:Europe/London
BEGIN:VEVENT
UID:5189@ottervalechurches.org
DTSTART;TZID=Europe/London:20260510T080000
DTEND;TZID=Europe/London:20260510T084500
DTSTAMP:20251230T110344Z
URL:https://ottervalechurches.org/events/holy-communion-bcp-2026-01-11-202
 6-02-08-2026-03-08-2026-04-12-2026-05-10/
SUMMARY:Holy Communion BCP
DESCRIPTION:When you arrive at the church you will be welcomed and you will
  find a prayer book in the pew.\n\nThis is a said service from the Book of
  Common Prayer\, with sermon. The service lasts about 40 minutes.
ATTACH;FMTTYPE=image/jpeg:https://ottervalechurches.org/wp-content/uploads
 /holy-communion-bcp.jpg
CATEGORIES:Ottery St Mary
LOCATION:Ottery St Mary Church\, Paternoster Row\, Ottery St. Mary\, Devon\
 , EX11 1DP\, United Kingdom
GEO:50.752824;-3.279228
X-APPLE-STRUCTURED-LOCATION;VALUE=URI;X-ADDRESS=Paternoster Row\, Ottery St
 . Mary\, Devon\, EX11 1DP\, United Kingdom;X-APPLE-RADIUS=100;X-TITLE=Otte
 ry St Mary Church:geo:50.752824,-3.279228
END:VEVENT
BEGIN:VTIMEZONE
TZID:Europe/London
X-LIC-LOCATION:Europe/London
BEGIN:DAYLIGHT
DTSTART:20260329T020000
TZOFFSETFROM:+0000
TZOFFSETTO:+0100
TZNAME:BST
END:DAYLIGHT
END:VTIMEZONE
END:VCALENDAR