BEGIN:VCALENDAR
VERSION:2.0
PRODID:-//wp-events-plugin.com//7.2.3.1//EN
TZID:Europe/London
X-WR-TIMEZONE:Europe/London
BEGIN:VEVENT
UID:5568@ottervalechurches.org
DTSTART;TZID=Europe/London:20260507T100000
DTEND;TZID=Europe/London:20260507T110000
DTSTAMP:20251230T112342Z
URL:https://ottervalechurches.org/events/holy-communion-said-2-2026-01-08-
 2026-02-05-2026-03-05-2026-05-07/
SUMMARY:Holy Communion Said
DESCRIPTION:On arrival you will be welcomed and given a service sheet. Plea
 se sit near the from of church and you will find a green hymn book in the 
 pew. The service opens with a hymn and then through the service we offer v
 arious forms of prayer: adoration\, confession and a special prayer for th
 e week\, as well as prayers for the needs of God’s world and his people.
  We hear readings from the Bible and sermon of 10 minutes will be preached
 . The Minister leading the service offers prayers over bread and wine to c
 elebrate the life and sacrifice of Jesus and to remind us of what he did f
 or us. The bread and wine which is then shared out among everyone. Please 
 come up to the rail at the front of church\, and if you do not want to hav
 e the bread and wine please bow your head for a blessing.\n\nThe whole ser
 vice lasts about 30 minutes.
ATTACH;FMTTYPE=image/jpeg:https://ottervalechurches.org/wp-content/uploads
 /holy-communion-said.jpg
CATEGORIES:Ottery St Mary
LOCATION:Ottery St Mary Church\, Paternoster Row\, Ottery St. Mary\, Devon\
 , EX11 1DP\, United Kingdom
GEO:50.752824;-3.279228
X-APPLE-STRUCTURED-LOCATION;VALUE=URI;X-ADDRESS=Paternoster Row\, Ottery St
 . Mary\, Devon\, EX11 1DP\, United Kingdom;X-APPLE-RADIUS=100;X-TITLE=Otte
 ry St Mary Church:geo:50.752824,-3.279228
END:VEVENT
BEGIN:VTIMEZONE
TZID:Europe/London
X-LIC-LOCATION:Europe/London
BEGIN:DAYLIGHT
DTSTART:20260329T020000
TZOFFSETFROM:+0000
TZOFFSETTO:+0100
TZNAME:BST
END:DAYLIGHT
END:VTIMEZONE
END:VCALENDAR