BEGIN:VCALENDAR
VERSION:2.0
PRODID:-//wp-events-plugin.com//7.2.3.1//EN
TZID:Europe/London
X-WR-TIMEZONE:Europe/London
BEGIN:VEVENT
UID:6061@ottervalechurches.org
DTSTART;TZID=Europe/London:20260503T080000
DTEND;TZID=Europe/London:20260503T090000
DTSTAMP:20251230T115523Z
URL:https://ottervalechurches.org/events/holy-communion-said-2026-01-04-20
 26-02-01-2026-03-01-2026-04-05-2026-05-03/
SUMMARY:Holy Communion Said
DESCRIPTION:When you arrive at the church you will be welcomed and given an
  order of service and a hymn book.\n\nDuring the service we offer various 
 forms of prayer: adoration\, confession and a special prayer for the week\
 , as well as prayers for the needs of God’s world and his people. We hea
 r readings from the Bible and sermon of 10 - 15 minutes will be preached. 
 The Minister leading the service offers prayers over bread and wine to cel
 ebrate the life and sacrifice of Jesus and to remind us of what he did for
  us. The bread and wine which is then shared out among everyone. Please co
 me up to the rail at the front of church\, and if you do not want to have 
 the bread and wine please bow your head for a blessing.\n\nThe whole servi
 ce lasts about 45 minutes.
ATTACH;FMTTYPE=image/jpeg:https://ottervalechurches.org/wp-content/uploads
 /holy-communion-said.jpg
CATEGORIES:West Hill
LOCATION:West Hill Church\, Bendarroch Road\, West Hill\, England\, EX11 1U
 W\, Devon\, United Kingdom
GEO:50.740109;-3.319171
X-APPLE-STRUCTURED-LOCATION;VALUE=URI;X-ADDRESS=Bendarroch Road\, West Hill
 \, England\, EX11 1UW\, Devon\, United Kingdom;X-APPLE-RADIUS=100;X-TITLE=
 West Hill Church:geo:50.740109,-3.319171
END:VEVENT
BEGIN:VTIMEZONE
TZID:Europe/London
X-LIC-LOCATION:Europe/London
BEGIN:DAYLIGHT
DTSTART:20260329T020000
TZOFFSETFROM:+0000
TZOFFSETTO:+0100
TZNAME:BST
END:DAYLIGHT
END:VTIMEZONE
END:VCALENDAR