BEGIN:VCALENDAR
VERSION:2.0
PRODID:-//wp-events-plugin.com//7.2.3.1//EN
TZID:Europe/London
X-WR-TIMEZONE:Europe/London
BEGIN:VEVENT
UID:6333@ottervalechurches.org
DTSTART;TZID=Europe/London:20260503T110000
DTEND;TZID=Europe/London:20260503T120000
DTSTAMP:20251230T121903Z
URL:https://ottervalechurches.org/events/holy-communion-sung-4-2026-01-04-
 2026-02-01-2026-03-01-2026-04-05-2026-05-03/
SUMMARY:Holy Communion
DESCRIPTION:When you arrive at the church you will be welcomed and given an
  order of service and a hymn book.\n\nDuring the service we offer various 
 forms of prayer: adoration\, confession and a special prayer for the week\
 , as well as prayers for the needs of God’s world and his people. We sin
 g hymns throughout the service\, and other parts of the liturgy are also s
 ung. We hear readings from the Bible and sermon of 10 - 15 minutes will be
  preached. The Minister leading the service offers prayers over bread and 
 wine to celebrate the life and sacrifice of Jesus and to remind us of what
  he did for us. The bread and wine which is then shared out among everyone
 . Please come up to the rail at the front of church\, and if you do not wa
 nt to have the bread and wine please bow your head for a blessing.\n\nThe 
 whole service lasts about an hour.
ATTACH;FMTTYPE=image/jpeg:https://ottervalechurches.org/wp-content/uploads
 /holy-communion-sung.jpg
CATEGORIES:Payhembury
LOCATION:Payhembury Church\, Church Lane\, Payhembury\, England\, EX14 3HR\
 , Devon\, United Kingdom
GEO:50.808485;-3.29476
X-APPLE-STRUCTURED-LOCATION;VALUE=URI;X-ADDRESS=Church Lane\, Payhembury\, 
 England\, EX14 3HR\, Devon\, United Kingdom;X-APPLE-RADIUS=100;X-TITLE=Pay
 hembury Church:geo:50.808485,-3.29476
END:VEVENT
BEGIN:VTIMEZONE
TZID:Europe/London
X-LIC-LOCATION:Europe/London
BEGIN:DAYLIGHT
DTSTART:20260329T020000
TZOFFSETFROM:+0000
TZOFFSETTO:+0100
TZNAME:BST
END:DAYLIGHT
END:VTIMEZONE
END:VCALENDAR