BEGIN:VCALENDAR
VERSION:2.0
PRODID:-//wp-events-plugin.com//7.2.3.1//EN
TZID:Europe/London
X-WR-TIMEZONE:Europe/London
BEGIN:VEVENT
UID:5703@ottervalechurches.org
DTSTART;TZID=Europe/London:20260423T160000
DTEND;TZID=Europe/London:20260423T170000
DTSTAMP:20251230T113003Z
URL:https://ottervalechurches.org/events/kingdom-kids-2026-01-08-2026-01-1
 5-2026-01-22-2026-01-29-2026-02-05-2026-02-12-2026-02-19-2026-02-26-2026-0
 3-05-2026-03-12-2026-03-19-2026-03-26-2026-04-02-2026-04-09-2026-04-16-202
 6-04-23/
SUMMARY:Kingdom Kids
DESCRIPTION:Kingdom Kids is for children aged 3+ to enjoy singing\, craft\,
  storytime and fun. There are separate activities for older children.
ATTACH;FMTTYPE=image/jpeg:https://ottervalechurches.org/wp-content/uploads
 /kingdom-kids-group.jpeg
CATEGORIES:Ottery St Mary
LOCATION:Ottery St Mary Church\, Paternoster Row\, Ottery St. Mary\, Devon\
 , EX11 1DP\, United Kingdom
GEO:50.752824;-3.279228
X-APPLE-STRUCTURED-LOCATION;VALUE=URI;X-ADDRESS=Paternoster Row\, Ottery St
 . Mary\, Devon\, EX11 1DP\, United Kingdom;X-APPLE-RADIUS=100;X-TITLE=Otte
 ry St Mary Church:geo:50.752824,-3.279228
END:VEVENT
BEGIN:VTIMEZONE
TZID:Europe/London
X-LIC-LOCATION:Europe/London
BEGIN:DAYLIGHT
DTSTART:20260329T020000
TZOFFSETFROM:+0000
TZOFFSETTO:+0100
TZNAME:BST
END:DAYLIGHT
END:VTIMEZONE
END:VCALENDAR