BEGIN:VCALENDAR
VERSION:2.0
PRODID:-//wp-events-plugin.com//7.2.3.1//EN
TZID:Europe/London
X-WR-TIMEZONE:Europe/London
BEGIN:VEVENT
UID:6594@ottervalechurches.org
DTSTART;TZID=Europe/London:20260424T154500
DTEND;TZID=Europe/London:20260424T171500
DTSTAMP:20260106T095228Z
URL:https://ottervalechurches.org/events/messy-church-2026-04-24/
SUMMARY:Messy Church
DESCRIPTION:This is an informal church for families. Its values are based o
 n creativity\, hospitality and celebration. Together\, we use hands-on cra
 fts and activities to explore Bible stories. After the activities and a cl
 ergy-led talk\, the children have tea whilst the adults enjoy a cup of tea
 /coffee. All children must be accompanied by an adult.
ATTACH;FMTTYPE=image/jpeg:https://ottervalechurches.org/wp-content/uploads
 /messy-church.jpg
CATEGORIES:West Hill
LOCATION:West Hill Church Hall\, Bendarroch Road\, West Hill\, Devon\, EX11
  1UW\, United Kingdom
X-APPLE-STRUCTURED-LOCATION;VALUE=URI;X-ADDRESS=Bendarroch Road\, West Hill
 \, Devon\, EX11 1UW\, United Kingdom;X-APPLE-RADIUS=100;X-TITLE=West Hill 
 Church Hall:geo:0,0
END:VEVENT
BEGIN:VTIMEZONE
TZID:Europe/London
X-LIC-LOCATION:Europe/London
BEGIN:DAYLIGHT
DTSTART:20260329T020000
TZOFFSETFROM:+0000
TZOFFSETTO:+0100
TZNAME:BST
END:DAYLIGHT
END:VTIMEZONE
END:VCALENDAR