BEGIN:VCALENDAR
VERSION:2.0
PRODID:-//wp-events-plugin.com//7.2.3.1//EN
TZID:Europe/London
X-WR-TIMEZONE:Europe/London
BEGIN:VEVENT
UID:5288@ottervalechurches.org
DTSTART;TZID=Europe/London:20260506T083000
DTEND;TZID=Europe/London:20260506T090000
DTSTAMP:20251230T111155Z
URL:https://ottervalechurches.org/events/morning-prayer-11-2026-01-05-2026
 -01-07-2026-01-12-2026-01-14-2026-01-19-2026-01-21-2026-01-26-2026-01-28-2
 026-02-02-2026-02-04-2026-02-09-2026-02-11-2026-02-16-2026-02-18-2026-02-2
 3-202-04-2026-05-06/
SUMMARY:Morning Prayer
DESCRIPTION:A short said service of psalms\, Bible readings and prayers. Th
 e Bible readings are longer pieces of scripture than on a Sunday and we te
 nd to read through a whole book at a time. Each day there is time for indi
 vidual open prayer. The service takes place in the Dorset Aisle.
ATTACH;FMTTYPE=image/jpeg:https://ottervalechurches.org/wp-content/uploads
 /morning-prayer.jpeg
CATEGORIES:Ottery St Mary
LOCATION:Ottery St Mary Church\, Paternoster Row\, Ottery St. Mary\, Devon\
 , EX11 1DP\, United Kingdom
GEO:50.752824;-3.279228
X-APPLE-STRUCTURED-LOCATION;VALUE=URI;X-ADDRESS=Paternoster Row\, Ottery St
 . Mary\, Devon\, EX11 1DP\, United Kingdom;X-APPLE-RADIUS=100;X-TITLE=Otte
 ry St Mary Church:geo:50.752824,-3.279228
END:VEVENT
BEGIN:VTIMEZONE
TZID:Europe/London
X-LIC-LOCATION:Europe/London
BEGIN:DAYLIGHT
DTSTART:20260329T020000
TZOFFSETFROM:+0000
TZOFFSETTO:+0100
TZNAME:BST
END:DAYLIGHT
END:VTIMEZONE
END:VCALENDAR