BEGIN:VCALENDAR
VERSION:2.0
PRODID:-//wp-events-plugin.com//7.2.3.1//EN
TZID:Europe/London
X-WR-TIMEZONE:Europe/London
BEGIN:VEVENT
UID:5843@ottervalechurches.org
DTSTART;TZID=Europe/London:20260519T090000
DTEND;TZID=Europe/London:20260519T093000
DTSTAMP:20251230T114506Z
URL:https://ottervalechurches.org/events/morning-prayer-12-2026-01-06-2026
 -01-13-2026-01-20-2026-01-27-2026-02-03-2026-02-10-2026-02-17-2026-02-24-2
 026-03-03-2026-03-10-2026-03-17-2026-03-24-2026-03-31-2026-04-07-2026-04-1
 4-202-12-2026-05-19/
SUMMARY:Morning Prayer
DESCRIPTION:A short said service of psalms\, Bible readings and prayers. Th
 e Bible readings are longer pieces of scripture than on a Sunday and we te
 nd to read through a whole book at a time. Each day there is time for indi
 vidual open prayer.
ATTACH;FMTTYPE=image/jpeg:https://ottervalechurches.org/wp-content/uploads
 /morning-prayer.jpeg
CATEGORIES:Alfington
LOCATION:Alfington Church\, Church Lane\, Alfington\, England\, EX11 1PE\, 
 Devon\, United Kingdom
GEO:50.775001;-3.258902
X-APPLE-STRUCTURED-LOCATION;VALUE=URI;X-ADDRESS=Church Lane\, Alfington\, E
 ngland\, EX11 1PE\, Devon\, United Kingdom;X-APPLE-RADIUS=100;X-TITLE=Alfi
 ngton Church:geo:50.775001,-3.258902
END:VEVENT
BEGIN:VTIMEZONE
TZID:Europe/London
X-LIC-LOCATION:Europe/London
BEGIN:DAYLIGHT
DTSTART:20260329T020000
TZOFFSETFROM:+0000
TZOFFSETTO:+0100
TZNAME:BST
END:DAYLIGHT
END:VTIMEZONE
END:VCALENDAR