BEGIN:VCALENDAR
VERSION:2.0
PRODID:-//wp-events-plugin.com//7.2.3.1//EN
TZID:Europe/London
X-WR-TIMEZONE:Europe/London
BEGIN:VEVENT
UID:6221@ottervalechurches.org
DTSTART;TZID=Europe/London:20260419T113000
DTEND;TZID=Europe/London:20260419T121500
DTSTAMP:20251230T120157Z
URL:https://ottervalechurches.org/events/morning-prayer-3-2026-02-15-2026-
 04-19/
SUMMARY:Morning Worship
DESCRIPTION:When you arrive at the church you will be welcomed and given a 
 hymn book and an order of service.\n\nWe sing lots of hymns in this servic
 e and the hymns are interspersed with times of prayer\, readings from the 
 Bible and a sermon of about 10 minutes.\n\nThe whole service lasts about a
 n hour.
ATTACH;FMTTYPE=image/jpeg:https://ottervalechurches.org/wp-content/uploads
 /morning-prayer.jpg
CATEGORIES:Wiggaton
LOCATION:Wiggaton Church\, Sidmouth Road\, Wiggaton\, England\, EX11 1PX\, 
 Devon\, United Kingdom
GEO:50.735483;-3.275927
X-APPLE-STRUCTURED-LOCATION;VALUE=URI;X-ADDRESS=Sidmouth Road\, Wiggaton\, 
 England\, EX11 1PX\, Devon\, United Kingdom;X-APPLE-RADIUS=100;X-TITLE=Wig
 gaton Church:geo:50.735483,-3.275927
END:VEVENT
BEGIN:VTIMEZONE
TZID:Europe/London
X-LIC-LOCATION:Europe/London
BEGIN:DAYLIGHT
DTSTART:20260329T020000
TZOFFSETFROM:+0000
TZOFFSETTO:+0100
TZNAME:BST
END:DAYLIGHT
END:VTIMEZONE
END:VCALENDAR