BEGIN:VCALENDAR
VERSION:2.0
PRODID:-//wp-events-plugin.com//7.2.3.1//EN
TZID:Europe/London
X-WR-TIMEZONE:Europe/London
BEGIN:VEVENT
UID:6097@ottervalechurches.org
DTSTART;TZID=Europe/London:20260517T100000
DTEND;TZID=Europe/London:20260517T104500
DTSTAMP:20251230T115644Z
URL:https://ottervalechurches.org/events/morning-prayer-5-2026-01-18-2026-
 02-15-2026-03-15-2026-04-19-2026-05-17/
SUMMARY:Morning Worship
DESCRIPTION:When you arrive at the church you will be welcomed and given a 
 hymn book and an order of service.\n\nWe sing lots of hymns in this servic
 e and the hymns are interspersed with times of prayer\, readings from the 
 Bible and a sermon of about 15-20 minutes. There is usually a children’s
  craft activity during the sermon.\n\nThe whole service lasts about an hou
 r.\n\nAfter the service refreshments are served in the Narthex (the Church
  Hall)\, and everyone is invited to stay and chat\, catch up on news and m
 eet newcomers.
ATTACH;FMTTYPE=image/jpeg:https://ottervalechurches.org/wp-content/uploads
 /morning-prayer.jpg
CATEGORIES:West Hill
LOCATION:West Hill Church\, Bendarroch Road\, West Hill\, England\, EX11 1U
 W\, Devon\, United Kingdom
GEO:50.740109;-3.319171
X-APPLE-STRUCTURED-LOCATION;VALUE=URI;X-ADDRESS=Bendarroch Road\, West Hill
 \, England\, EX11 1UW\, Devon\, United Kingdom;X-APPLE-RADIUS=100;X-TITLE=
 West Hill Church:geo:50.740109,-3.319171
END:VEVENT
BEGIN:VTIMEZONE
TZID:Europe/London
X-LIC-LOCATION:Europe/London
BEGIN:DAYLIGHT
DTSTART:20260329T020000
TZOFFSETFROM:+0000
TZOFFSETTO:+0100
TZNAME:BST
END:DAYLIGHT
END:VTIMEZONE
END:VCALENDAR