BEGIN:VCALENDAR
VERSION:2.0
PRODID:-//wp-events-plugin.com//7.2.3.1//EN
TZID:Europe/London
X-WR-TIMEZONE:Europe/London
BEGIN:VEVENT
UID:6652@ottervalechurches.org
DTSTART;TZID=Europe/London:20260506T193000
DTEND;TZID=Europe/London:20260506T200000
DTSTAMP:20260214T143908Z
URL:https://ottervalechurches.org/events/prayers-in-church-7/
SUMMARY:Prayers in Church
DESCRIPTION:
ATTACH;FMTTYPE=image/jpeg:https://ottervalechurches.org/wp-content/uploads
 /morning-prayer.jpeg
CATEGORIES:West Hill
LOCATION:West Hill Church\, Bendarroch Road\, West Hill\, England\, EX11 1U
 W\, Devon\, United Kingdom
GEO:50.740109;-3.319171
X-APPLE-STRUCTURED-LOCATION;VALUE=URI;X-ADDRESS=Bendarroch Road\, West Hill
 \, England\, EX11 1UW\, Devon\, United Kingdom;X-APPLE-RADIUS=100;X-TITLE=
 West Hill Church:geo:50.740109,-3.319171
END:VEVENT
BEGIN:VTIMEZONE
TZID:Europe/London
X-LIC-LOCATION:Europe/London
BEGIN:DAYLIGHT
DTSTART:20260329T020000
TZOFFSETFROM:+0000
TZOFFSETTO:+0100
TZNAME:BST
END:DAYLIGHT
END:VTIMEZONE
END:VCALENDAR