BEGIN:VCALENDAR
VERSION:2.0
PRODID:-//wp-events-plugin.com//7.2.3.1//EN
TZID:Europe/London
X-WR-TIMEZONE:Europe/London
BEGIN:VEVENT
UID:5213@ottervalechurches.org
DTSTART;TZID=Europe/London:20260510T183000
DTEND;TZID=Europe/London:20260510T193000
DTSTAMP:20251230T110522Z
URL:https://ottervalechurches.org/events/praying-the-news-2026-01-11-2026-
 02-08-2026-03-08-2026-04-12-2026-05-10/
SUMMARY:Praying the News
DESCRIPTION:A time to gather to bring to God the issues and events in the n
 ews. Silent or open prayer. All welcome.
ATTACH;FMTTYPE=image/jpeg:https://ottervalechurches.org/wp-content/uploads
 /news.jpg
CATEGORIES:Ottery St Mary
LOCATION:Ottery St Mary Church\, Paternoster Row\, Ottery St. Mary\, Devon\
 , EX11 1DP\, United Kingdom
GEO:50.752824;-3.279228
X-APPLE-STRUCTURED-LOCATION;VALUE=URI;X-ADDRESS=Paternoster Row\, Ottery St
 . Mary\, Devon\, EX11 1DP\, United Kingdom;X-APPLE-RADIUS=100;X-TITLE=Otte
 ry St Mary Church:geo:50.752824,-3.279228
END:VEVENT
BEGIN:VTIMEZONE
TZID:Europe/London
X-LIC-LOCATION:Europe/London
BEGIN:DAYLIGHT
DTSTART:20260329T020000
TZOFFSETFROM:+0000
TZOFFSETTO:+0100
TZNAME:BST
END:DAYLIGHT
END:VTIMEZONE
END:VCALENDAR