BEGIN:VCALENDAR
VERSION:2.0
PRODID:-//wp-events-plugin.com//7.2.3.1//EN
TZID:Europe/London
X-WR-TIMEZONE:Europe/London
BEGIN:VEVENT
UID:6380@ottervalechurches.org
DTSTART;TZID=Europe/London:20260511T120000
DTEND;TZID=Europe/London:20260511T140000
DTSTAMP:20251230T122102Z
URL:https://ottervalechurches.org/events/soup-lunch-2-2026-01-12-2026-02-0
 9-2026-03-09-2026-04-13-2026-05-11/
SUMMARY:Soup lunch
DESCRIPTION:Home made soup\, cake\, hot drinks and good company for only £
 5.
ATTACH;FMTTYPE=image/jpeg:https://ottervalechurches.org/wp-content/uploads
 /soup-lunch-banner.jpg
CATEGORIES:Payhembury
LOCATION:Payhembury Church\, Church Lane\, Payhembury\, England\, EX14 3HR\
 , Devon\, United Kingdom
GEO:50.808485;-3.29476
X-APPLE-STRUCTURED-LOCATION;VALUE=URI;X-ADDRESS=Church Lane\, Payhembury\, 
 England\, EX14 3HR\, Devon\, United Kingdom;X-APPLE-RADIUS=100;X-TITLE=Pay
 hembury Church:geo:50.808485,-3.29476
END:VEVENT
BEGIN:VTIMEZONE
TZID:Europe/London
X-LIC-LOCATION:Europe/London
BEGIN:DAYLIGHT
DTSTART:20260329T020000
TZOFFSETFROM:+0000
TZOFFSETTO:+0100
TZNAME:BST
END:DAYLIGHT
END:VTIMEZONE
END:VCALENDAR