BEGIN:VCALENDAR
VERSION:2.0
PRODID:-//wp-events-plugin.com//7.2.3.1//EN
TZID:Europe/London
X-WR-TIMEZONE:Europe/London
BEGIN:VEVENT
UID:6132@ottervalechurches.org
DTSTART;TZID=Europe/London:20260511T184500
DTEND;TZID=Europe/London:20260511T211500
DTSTAMP:20251230T115826Z
URL:https://ottervalechurches.org/events/st-michaels-mens-group-2026-01-12
 -2026-02-09-2026-03-09-2026-04-13-2026-05-11/
SUMMARY:Men’s Supper Club
DESCRIPTION:A chance for men to talk and eat together and enjoy a guest spe
 aker. The current charge is £20 which covers wine or non-alcoholic drinks
  before and during the meal and a contribution towards costs for speakers.
 \nSpeakers for upcoming suppers can be found in the Messenger magazine. If
  you wish to attend\, please call Peter Keith on 01404 812201 or send an e
 mail.
ATTACH;FMTTYPE=image/jpeg:https://ottervalechurches.org/wp-content/uploads
 /mens-group-banner.jpg
CATEGORIES:West Hill
LOCATION:West Hill Church Hall\, Bendarroch Road\, West Hill\, Devon\, EX11
  1UW\, United Kingdom
X-APPLE-STRUCTURED-LOCATION;VALUE=URI;X-ADDRESS=Bendarroch Road\, West Hill
 \, Devon\, EX11 1UW\, United Kingdom;X-APPLE-RADIUS=100;X-TITLE=West Hill 
 Church Hall:geo:0,0
END:VEVENT
BEGIN:VTIMEZONE
TZID:Europe/London
X-LIC-LOCATION:Europe/London
BEGIN:DAYLIGHT
DTSTART:20260329T020000
TZOFFSETFROM:+0000
TZOFFSETTO:+0100
TZNAME:BST
END:DAYLIGHT
END:VTIMEZONE
END:VCALENDAR