BEGIN:VCALENDAR
VERSION:2.0
PRODID:-//wp-events-plugin.com//7.2.3.1//EN
TZID:Europe/London
X-WR-TIMEZONE:Europe/London
BEGIN:VEVENT
UID:6483@ottervalechurches.org
DTSTART;TZID=Europe/London:20260503T091500
DTEND;TZID=Europe/London:20260503T100000
DTSTAMP:20251230T122642Z
URL:https://ottervalechurches.org/events/storytime-2026-01-04-2026-02-01-2
 026-03-01-2026-04-05-2026-05-03/
SUMMARY:Storytime
DESCRIPTION:This is an informal service aimed at all generations! Children 
 are very welcome. The service lasts about 40 minutes and is made up of sin
 ging\, listening to Bible readings and a talk\, and prayers. Refreshments 
 are served after the service.
ATTACH;FMTTYPE=image/jpeg:https://ottervalechurches.org/wp-content/uploads
 /family-service.jpg
CATEGORIES:Feniton
LOCATION:Feniton Church\, Church Lane\, Feniton\, England\, EX14 3BY\, Devo
 n\, United Kingdom
GEO:50.787436;-3.265845
X-APPLE-STRUCTURED-LOCATION;VALUE=URI;X-ADDRESS=Church Lane\, Feniton\, Eng
 land\, EX14 3BY\, Devon\, United Kingdom;X-APPLE-RADIUS=100;X-TITLE=Fenito
 n Church:geo:50.787436,-3.265845
END:VEVENT
BEGIN:VTIMEZONE
TZID:Europe/London
X-LIC-LOCATION:Europe/London
BEGIN:DAYLIGHT
DTSTART:20260329T020000
TZOFFSETFROM:+0000
TZOFFSETTO:+0100
TZNAME:BST
END:DAYLIGHT
END:VTIMEZONE
END:VCALENDAR