BEGIN:VCALENDAR
VERSION:2.0
PRODID:-//wp-events-plugin.com//7.2.3.1//EN
TZID:Europe/London
X-WR-TIMEZONE:Europe/London
BEGIN:VEVENT
UID:6120@ottervalechurches.org
DTSTART;TZID=Europe/London:20260424T103000
DTEND;TZID=Europe/London:20260424T123000
DTSTAMP:20251230T115745Z
URL:https://ottervalechurches.org/events/the-welcome-cafe-2026-01-30-2026-
 02-27-2026-03-27-2026-04-24/
SUMMARY:The Welcome Cafe
DESCRIPTION:A gathering place for chat and friendship for everyone. Occasio
 nally we open until 2pm and serve light lunches at a very modest cost.
ATTACH;FMTTYPE=image/jpeg:https://ottervalechurches.org/wp-content/uploads
 /welcome-cafe-banner.jpg
CATEGORIES:West Hill
LOCATION:West Hill Church Hall\, Bendarroch Road\, West Hill\, Devon\, EX11
  1UW\, United Kingdom
X-APPLE-STRUCTURED-LOCATION;VALUE=URI;X-ADDRESS=Bendarroch Road\, West Hill
 \, Devon\, EX11 1UW\, United Kingdom;X-APPLE-RADIUS=100;X-TITLE=West Hill 
 Church Hall:geo:0,0
END:VEVENT
BEGIN:VTIMEZONE
TZID:Europe/London
X-LIC-LOCATION:Europe/London
BEGIN:DAYLIGHT
DTSTART:20260329T020000
TZOFFSETFROM:+0000
TZOFFSETTO:+0100
TZNAME:BST
END:DAYLIGHT
END:VTIMEZONE
END:VCALENDAR