BEGIN:VCALENDAR
VERSION:2.0
PRODID:-//wp-events-plugin.com//7.2.3.1//EN
TZID:Europe/London
X-WR-TIMEZONE:Europe/London
BEGIN:VEVENT
UID:6643@ottervalechurches.org
DTSTART;TZID=Europe/London:20260509T093000
DTEND;TZID=Europe/London:20260509T113000
DTSTAMP:20260207T084309Z
URL:https://ottervalechurches.org/events/welcome-cafe-2026-02-14-2026-03-1
 4-2026-04-11-2026-05-09/
SUMMARY:Welcome Cafe
DESCRIPTION:Come along and have breakfast or coffee and cake at the Welcome
  Cafe. Enjoy conversation\, the community jigsaw\, board games and the bea
 uty of the church surroundings. Our famous bacon baps on sale plus much\, 
 much more.
ATTACH;FMTTYPE=image/jpeg:https://ottervalechurches.org/wp-content/uploads
 /fellowship-banner.jpeg
CATEGORIES:Ottery St Mary
LOCATION:Ottery St Mary Church\, Paternoster Row\, Ottery St. Mary\, Devon\
 , EX11 1DP\, United Kingdom
GEO:50.752824;-3.279228
X-APPLE-STRUCTURED-LOCATION;VALUE=URI;X-ADDRESS=Paternoster Row\, Ottery St
 . Mary\, Devon\, EX11 1DP\, United Kingdom;X-APPLE-RADIUS=100;X-TITLE=Otte
 ry St Mary Church:geo:50.752824,-3.279228
END:VEVENT
BEGIN:VTIMEZONE
TZID:Europe/London
X-LIC-LOCATION:Europe/London
BEGIN:DAYLIGHT
DTSTART:20260329T020000
TZOFFSETFROM:+0000
TZOFFSETTO:+0100
TZNAME:BST
END:DAYLIGHT
END:VTIMEZONE
END:VCALENDAR